BEGIN:VCALENDAR
VERSION:2.0
PRODID:https://fedsoc.org/events/foundational-issues-protestant-perspective
 s
BEGIN:VEVENT
UID:63a802fe8d99e
DTSTART:20080314T144541Z
SEQUENCE:0
TRANSP:OPAQUE
DTEND:20080314T154541Z
LOCATION:120 F St NW Washington DC 20001
SUMMARY:Foundational Issues - Protestant Perspectives
CLASS:PUBLIC
X-ALT-DESC;FMTTYPE=text/html:Event: Foundational Issues - Protestant Perspe
 ctives\n\n Location: 120 F St NW Washington DC 20001\n\n
DTSTAMP:20221225T025958Z
END:VEVENT
END:VCALENDAR