BEGIN:VCALENDAR
VERSION:2.0
PRODID:https://fedsoc.org/events/foundational-issues-catholic-perspective
BEGIN:VEVENT
UID:63a802f8a7e71
DTSTART:20080314T133031Z
SEQUENCE:0
TRANSP:OPAQUE
DTEND:20080314T143031Z
LOCATION:120 F St NW Washington DC 20001
SUMMARY:Foundational Issues - Catholic Perspective
CLASS:PUBLIC
X-ALT-DESC;FMTTYPE=text/html:Event: Foundational Issues - Catholic Perspect
 ive\n\n Location: 120 F St NW Washington DC 20001\n\n
DTSTAMP:20221225T025952Z
END:VEVENT
END:VCALENDAR