BEGIN:VCALENDAR
VERSION:2.0
PRODID:https://fedsoc.org/events/opening-remarks-7
BEGIN:VEVENT
UID:63a802e84ef77
DTSTART:20080314T131536Z
SEQUENCE:0
TRANSP:OPAQUE
DTEND:20080314T133036Z
LOCATION:120 F St NW Washington DC 20001
SUMMARY:Opening Remarks
CLASS:PUBLIC
X-ALT-DESC;FMTTYPE=text/html:Event: Opening Remarks\n\n Location: 120 F St 
 NW Washington DC 20001\n\n
DTSTAMP:20221225T025936Z
END:VEVENT
END:VCALENDAR