BEGIN:VCALENDAR
VERSION:2.0
PRODID:https://fedsoc.org/events/the-things-that-are-not-caesar-s-religious
 -organizations-as-a-check-on-the-authoritarian-pretensions-of-the-state
BEGIN:VEVENT
UID:63a802f394b41
DTSTART:20080314T130005Z
SEQUENCE:0
TRANSP:OPAQUE
DTEND:20080314T193005Z
LOCATION:120 F St NW Washington DC 20001
SUMMARY:The Things That Are Not Caesar’s: Religious Organizations as a Ch
 eck on the Authoritarian Pretensions of the State
CLASS:PUBLIC
X-ALT-DESC;FMTTYPE=text/html:Event: The Things That Are Not Caesar’s: Rel
 igious Organizations as a Check on the Authoritarian Pretensions of the St
 ate\n\n Location: 120 F St NW Washington DC 20001\n\n
DTSTAMP:20221225T025947Z
END:VEVENT
END:VCALENDAR