BEGIN:VCALENDAR
VERSION:2.0
PRODID:https://fedsoc.org/events/panel-ii-credit-card-regulation
BEGIN:VEVENT
UID:63a786b9b6579
DTSTART:20080520T160026Z
SEQUENCE:0
TRANSP:OPAQUE
DTEND:20080520T180026Z
LOCATION:529 14th St. NW Washington DC 20045
SUMMARY:Panel II: Credit Card Regulation
CLASS:PUBLIC
X-ALT-DESC;FMTTYPE=text/html:Event: Panel II: Credit Card Regulation\n\n Lo
 cation: 529 14th St. NW Washington DC 20045\n\n
DTSTAMP:20221224T180945Z
END:VEVENT
END:VCALENDAR