BEGIN:VCALENDAR
VERSION:2.0
PRODID:https://fedsoc.org/events/panel-i-subprime-lending
BEGIN:VEVENT
UID:63a786e5eab39
DTSTART:20080520T140032Z
SEQUENCE:0
TRANSP:OPAQUE
DTEND:20080520T154532Z
LOCATION:529 14th St. NW Washington DC 20045
SUMMARY:Panel I: Subprime Lending
CLASS:PUBLIC
X-ALT-DESC;FMTTYPE=text/html:Event: Panel I: Subprime Lending\n\n Location:
  529 14th St. NW Washington DC 20045\n\n
DTSTAMP:20221224T181029Z
END:VEVENT
END:VCALENDAR