BEGIN:VCALENDAR
VERSION:2.0
PRODID:https://fedsoc.org/events/consumer-credit-protection-conference
BEGIN:VEVENT
UID:63a786d134dd3
DTSTART:20080520T133019Z
SEQUENCE:0
TRANSP:OPAQUE
DTEND:20080520T180500Z
LOCATION:529 14th St. NW Washington DC 20045
SUMMARY:Consumer Credit Protection Conference
CLASS:PUBLIC
X-ALT-DESC;FMTTYPE=text/html:Event: Consumer Credit Protection Conference\n
 \n Location: 529 14th St. NW Washington DC 20045\n\n
DTSTAMP:20221224T181009Z
END:VEVENT
END:VCALENDAR