BEGIN:VCALENDAR
VERSION:2.0
PRODID:https://fedsoc.org/events/panel-two-economic-security
BEGIN:VEVENT
UID:63a984dc01ab9
DTSTART:20110628T170044Z
SEQUENCE:0
TRANSP:OPAQUE
DTEND:20110628T183044Z
LOCATION:1330 Connecticut Avenue\, NW Washington DC 20036
SUMMARY:Panel Two: Economic Security
CLASS:PUBLIC
X-ALT-DESC;FMTTYPE=text/html:Event: Panel Two: Economic Security\n\n Locati
 on: 1330 Connecticut Avenue\, NW Washington DC 20036\n\n
DTSTAMP:20221226T062620Z
END:VEVENT
END:VCALENDAR