BEGIN:VCALENDAR
VERSION:2.0
PRODID:https://fedsoc.org/events/luncheon-address-by-stewart-a-baker
BEGIN:VEVENT
UID:63a9852643594
DTSTART:20110628T160033Z
SEQUENCE:0
TRANSP:OPAQUE
DTEND:20110628T170033Z
LOCATION:1330 Connecticut Avenue\, NW Washington DC 20036
SUMMARY:Luncheon Address by Stewart A. Baker
CLASS:PUBLIC
X-ALT-DESC;FMTTYPE=text/html:Event: Luncheon Address by Stewart A. Baker\n\
 n Location: 1330 Connecticut Avenue\, NW Washington DC 20036\n\n
DTSTAMP:20221226T062734Z
END:VEVENT
END:VCALENDAR