BEGIN:VCALENDAR
VERSION:2.0
PRODID:https://fedsoc.org/events/panel-one-national-security
BEGIN:VEVENT
UID:63a984b7c8ec8
DTSTART:20110628T135519Z
SEQUENCE:0
TRANSP:OPAQUE
DTEND:20110628T153019Z
LOCATION:1330 Connecticut Avenue\, NW Washington DC 20036
SUMMARY:Panel One: National Security
CLASS:PUBLIC
X-ALT-DESC;FMTTYPE=text/html:Event: Panel One: National Security\n\n Locati
 on: 1330 Connecticut Avenue\, NW Washington DC 20036\n\n
DTSTAMP:20221226T062543Z
END:VEVENT
END:VCALENDAR