BEGIN:VCALENDAR
VERSION:2.0
PRODID:https://fedsoc.org/events/cyber-security-national-security-and-econo
 mic-security
BEGIN:VEVENT
UID:63a984fc03cba
DTSTART:20110628T135521Z
SEQUENCE:0
TRANSP:OPAQUE
DTEND:20110628T183500Z
LOCATION:1330 Connecticut Avenue\, NW Washington DC 20036
SUMMARY:Cyber Security\, National Security and Economic Security
CLASS:PUBLIC
X-ALT-DESC;FMTTYPE=text/html:Event: Cyber Security\, National Security and 
 Economic Security\n\n Location: 1330 Connecticut Avenue\, NW Washington DC
  20036\n\n
DTSTAMP:20221226T062652Z
END:VEVENT
END:VCALENDAR