BEGIN:VCALENDAR
VERSION:2.0
PRODID:https://fedsoc.org/events/light-reception-sponsored-by-the-institute
 -for-humane-studies
BEGIN:VEVENT
UID:63a9ad34b0e31
DTSTART:20120106T223042Z
SEQUENCE:0
TRANSP:OPAQUE
DTEND:20120106T233042Z
LOCATION:2500 Calvert St. N.W. Washington DC 20008
SUMMARY:Light Reception: Sponsored by the Institute for Humane Studies
CLASS:PUBLIC
X-ALT-DESC;FMTTYPE=text/html:Event: Light Reception: Sponsored by the Insti
 tute for Humane Studies\n\n Location: 2500 Calvert St. N.W. Washington DC 
 20008\n\n
DTSTAMP:20221226T091828Z
END:VEVENT
END:VCALENDAR