BEGIN:VCALENDAR
VERSION:2.0
PRODID:https://fedsoc.org/events/panel-3-judicial-ethics
BEGIN:VEVENT
UID:63a9accc497ed
DTSTART:20120106T204537Z
SEQUENCE:0
TRANSP:OPAQUE
DTEND:20120106T223037Z
LOCATION:2500 Calvert St. N.W. Washington DC 20008
SUMMARY:Panel 3: Judicial Ethics
CLASS:PUBLIC
X-ALT-DESC;FMTTYPE=text/html:Event: Panel 3: Judicial Ethics\n\n Location: 
 2500 Calvert St. N.W. Washington DC 20008\n\n
DTSTAMP:20221226T091644Z
END:VEVENT
END:VCALENDAR