BEGIN:VCALENDAR
VERSION:2.0
PRODID:https://fedsoc.org/events/seven-minute-presentations-of-works-in-pro
 gress
BEGIN:VEVENT
UID:63a9acc67ed5a
DTSTART:20120106T193004Z
SEQUENCE:0
TRANSP:OPAQUE
DTEND:20120106T203004Z
LOCATION:2500 Calvert St. N.W. Washington DC 20008
SUMMARY:Seven-Minute Presentations of Works in Progress
CLASS:PUBLIC
X-ALT-DESC;FMTTYPE=text/html:Event: Seven-Minute Presentations of Works in 
 Progress\n\n Location: 2500 Calvert St. N.W. Washington DC 20008\n\n
DTSTAMP:20221226T091638Z
END:VEVENT
END:VCALENDAR