BEGIN:VCALENDAR
VERSION:2.0
PRODID:https://fedsoc.org/events/luncheon-debate-the-alien-tort-statute-int
 ernational-law-and-the-judiciary
BEGIN:VEVENT
UID:63a9acf215c3b
DTSTART:20120106T173008Z
SEQUENCE:0
TRANSP:OPAQUE
DTEND:20120106T193008Z
LOCATION:2500 Calvert St. N.W. Washington DC 20008
SUMMARY:Luncheon Debate: The Alien Tort Statute\, International Law\, and t
 he Judiciary
CLASS:PUBLIC
X-ALT-DESC;FMTTYPE=text/html:Event: Luncheon Debate: The Alien Tort Statute
 \, International Law\, and the Judiciary\n\n Location: 2500 Calvert St. N.
 W. Washington DC 20008\n\n
DTSTAMP:20221226T091722Z
END:VEVENT
END:VCALENDAR