BEGIN:VCALENDAR
VERSION:2.0
PRODID:https://fedsoc.org/events/young-legal-scholars-paper-presentations-8
BEGIN:VEVENT
UID:63a9ac47d35d0
DTSTART:20120106T154522Z
SEQUENCE:0
TRANSP:OPAQUE
DTEND:20120106T171522Z
LOCATION:2500 Calvert St. N.W. Washington DC 20008
SUMMARY:Young Legal Scholars Paper Presentations
CLASS:PUBLIC
X-ALT-DESC;FMTTYPE=text/html:Event: Young Legal Scholars Paper Presentation
 s\n\n Location: 2500 Calvert St. N.W. Washington DC 20008\n\n
DTSTAMP:20221226T091431Z
END:VEVENT
END:VCALENDAR