BEGIN:VCALENDAR
VERSION:2.0
PRODID:https://fedsoc.org/events/panel-2-public-sector-unions
BEGIN:VEVENT
UID:63a9acd2042af
DTSTART:20120106T140010Z
SEQUENCE:0
TRANSP:OPAQUE
DTEND:20120106T153010Z
LOCATION:2500 Calvert St. N.W. Washington DC 20008
SUMMARY:Panel 2: Public Sector Unions
CLASS:PUBLIC
X-ALT-DESC;FMTTYPE=text/html:Event: Panel 2: Public Sector Unions\n\n Locat
 ion: 2500 Calvert St. N.W. Washington DC 20008\n\n
DTSTAMP:20221226T091650Z
END:VEVENT
END:VCALENDAR