BEGIN:VCALENDAR
VERSION:2.0
PRODID:https://fedsoc.org/events/panel-1-the-sovereign-shareholder-governme
 nt-ownership-and-corporate-law-post-bailout
BEGIN:VEVENT
UID:63a9ad5436640
DTSTART:20120105T221558Z
SEQUENCE:0
TRANSP:OPAQUE
DTEND:20120106T000058Z
LOCATION:2500 Calvert St. N.W. Washington DC 20008
SUMMARY:Panel 1: The Sovereign Shareholder? Government Ownership and Corpor
 ate Law Post-Bailout
CLASS:PUBLIC
X-ALT-DESC;FMTTYPE=text/html:Event: Panel 1: The Sovereign Shareholder? Gov
 ernment Ownership and Corporate Law Post-Bailout\n\n Location: 2500 Calver
 t St. N.W. Washington DC 20008\n\n
DTSTAMP:20221226T091900Z
END:VEVENT
END:VCALENDAR