BEGIN:VCALENDAR
VERSION:2.0
PRODID:https://fedsoc.org/events/14th-annual-faculty-conference
BEGIN:VEVENT
UID:63a9ad3a86779
DTSTART:20120105T220000Z
SEQUENCE:0
TRANSP:OPAQUE
DTEND:20120106T233524Z
LOCATION:2500 Calvert St. N.W. Washington DC 20008
SUMMARY:14th Annual Faculty Conference
CLASS:PUBLIC
X-ALT-DESC;FMTTYPE=text/html:Event: 14th Annual Faculty Conference\n\n Loca
 tion: 2500 Calvert St. N.W. Washington DC 20008\n\n
DTSTAMP:20221226T091834Z
END:VEVENT
END:VCALENDAR