BEGIN:VCALENDAR
VERSION:2.0
PRODID:https://fedsoc.org/events/luncheon-debate-resolved-congress-s-enumer
 ated-powers-cannot-be-increased-by-treaty
BEGIN:VEVENT
UID:63a7fcce88cef
DTSTART:20130105T170016Z
SEQUENCE:0
TRANSP:OPAQUE
DTEND:20130105T190016Z
LOCATION:701 Convention Center Boulevard New Orleans LA 70130
SUMMARY:Luncheon Debate: Resolved: Congress's Enumerated Powers Cannot be I
 ncreased by Treaty
CLASS:PUBLIC
X-ALT-DESC;FMTTYPE=text/html:Event: Luncheon Debate: Resolved: Congress's E
 numerated Powers Cannot be Increased by Treaty\n\n Location: 701 Conventio
 n Center Boulevard New Orleans LA 70130\n\n
DTSTAMP:20221225T023334Z
END:VEVENT
END:VCALENDAR