BEGIN:VCALENDAR
VERSION:2.0
PRODID:https://fedsoc.org/events/seven-minute-presentations-of-works-in-pro
 gress-part-ii-1
BEGIN:VEVENT
UID:63a7fdd3f28eb
DTSTART:20130105T160004Z
SEQUENCE:0
TRANSP:OPAQUE
DTEND:20130105T170004Z
LOCATION:701 Convention Center Boulevard New Orleans LA 70130
SUMMARY:Seven-Minute Presentations of Works in Progress - Part II
CLASS:PUBLIC
X-ALT-DESC;FMTTYPE=text/html:Event: Seven-Minute Presentations of Works in 
 Progress - Part II\n\n Location: 701 Convention Center Boulevard New Orlea
 ns LA 70130\n\n
DTSTAMP:20221225T023755Z
END:VEVENT
END:VCALENDAR