BEGIN:VCALENDAR
VERSION:2.0
PRODID:https://fedsoc.org/events/panel-2-dodd-frank
BEGIN:VEVENT
UID:63a7fd02b5075
DTSTART:20130105T143044Z
SEQUENCE:0
TRANSP:OPAQUE
DTEND:20130105T160044Z
LOCATION:701 Convention Center Boulevard New Orleans LA 70130
SUMMARY:Panel 2: Dodd Frank
CLASS:PUBLIC
X-ALT-DESC;FMTTYPE=text/html:Event: Panel 2: Dodd Frank\n\n Location: 701 C
 onvention Center Boulevard New Orleans LA 70130\n\n
DTSTAMP:20221225T023426Z
END:VEVENT
END:VCALENDAR