BEGIN:VCALENDAR
VERSION:2.0
PRODID:https://fedsoc.org/events/reception-17
BEGIN:VEVENT
UID:63a7fd121cb76
DTSTART:20130105T000000Z
SEQUENCE:0
TRANSP:OPAQUE
DTEND:20130105T013015Z
LOCATION:701 Convention Center Boulevard New Orleans LA 70130
SUMMARY:Reception
CLASS:PUBLIC
X-ALT-DESC;FMTTYPE=text/html:Event: Reception\n\n Location: 701 Convention 
 Center Boulevard New Orleans LA 70130\n\n
DTSTAMP:20221225T023442Z
END:VEVENT
END:VCALENDAR