BEGIN:VCALENDAR
VERSION:2.0
PRODID:https://fedsoc.org/events/seven-minute-presentations-of-works-in-pro
 gress-part-i
BEGIN:VEVENT
UID:63a7fcc44288a
DTSTART:20130104T230032Z
SEQUENCE:0
TRANSP:OPAQUE
DTEND:20130105T000032Z
LOCATION:701 Convention Center Boulevard New Orleans LA 70130
SUMMARY:Seven-Minute Presentations of Works in Progress - Part I
CLASS:PUBLIC
X-ALT-DESC;FMTTYPE=text/html:Event: Seven-Minute Presentations of Works in 
 Progress - Part I\n\n Location: 701 Convention Center Boulevard New Orlean
 s LA 70130\n\n
DTSTAMP:20221225T023324Z
END:VEVENT
END:VCALENDAR