BEGIN:VCALENDAR
VERSION:2.0
PRODID:https://fedsoc.org/events/young-legal-scholars-paper-presentations-7
BEGIN:VEVENT
UID:63a7fd4555878
DTSTART:20130104T204553Z
SEQUENCE:0
TRANSP:OPAQUE
DTEND:20130104T225053Z
LOCATION:701 Convention Center Boulevard New Orleans LA 70130
SUMMARY:Young Legal Scholars Paper Presentations
CLASS:PUBLIC
X-ALT-DESC;FMTTYPE=text/html:Event: Young Legal Scholars Paper Presentation
 s\n\n Location: 701 Convention Center Boulevard New Orleans LA 70130\n\n
DTSTAMP:20221225T023533Z
END:VEVENT
END:VCALENDAR