BEGIN:VCALENDAR
VERSION:2.0
PRODID:https://fedsoc.org/events/panel-1-roundtable-on-judicial-deference-v
 -judicial-engagement
BEGIN:VEVENT
UID:63a7fced54511
DTSTART:20130104T190020Z
SEQUENCE:0
TRANSP:OPAQUE
DTEND:20130104T203000Z
LOCATION:701 Convention Center Boulevard New Orleans LA 70130
SUMMARY:Panel 1: Roundtable on Judicial Deference v. Judicial Engagement
CLASS:PUBLIC
X-ALT-DESC;FMTTYPE=text/html:Event: Panel 1: Roundtable on Judicial Deferen
 ce v. Judicial Engagement\n\n Location: 701 Convention Center Boulevard Ne
 w Orleans LA 70130\n\n
DTSTAMP:20221225T023405Z
END:VEVENT
END:VCALENDAR