BEGIN:VCALENDAR
VERSION:2.0
PRODID:https://fedsoc.org/events/tribute-to-judge-robert-bork-by-john-mcgin
 nis
BEGIN:VEVENT
UID:63a7fcfd45dbb
DTSTART:20130104T190002Z
SEQUENCE:0
TRANSP:OPAQUE
DTEND:20130104T191002Z
LOCATION:701 Convention Center Boulevard New Orleans LA 70130
SUMMARY:Tribute to Judge Robert Bork by John McGinnis
CLASS:PUBLIC
X-ALT-DESC;FMTTYPE=text/html:Event: Tribute to Judge Robert Bork by John Mc
 Ginnis\n\n Location: 701 Convention Center Boulevard New Orleans LA 70130\
 n\n
DTSTAMP:20221225T023421Z
END:VEVENT
END:VCALENDAR