BEGIN:VCALENDAR
VERSION:2.0
PRODID:https://fedsoc.org/events/welcome-luncheon
BEGIN:VEVENT
UID:63a7fdddf1eee
DTSTART:20130104T180020Z
SEQUENCE:0
TRANSP:OPAQUE
DTEND:20130104T190020Z
LOCATION:701 Convention Center Boulevard New Orleans LA 70130
SUMMARY:Welcome Luncheon
CLASS:PUBLIC
X-ALT-DESC;FMTTYPE=text/html:Event: Welcome Luncheon\n\n Location: 701 Conv
 ention Center Boulevard New Orleans LA 70130\n\n
DTSTAMP:20221225T023805Z
END:VEVENT
END:VCALENDAR