BEGIN:VCALENDAR
VERSION:2.0
PRODID:https://fedsoc.org/events/15th-annual-faculty-conference
BEGIN:VEVENT
UID:63a7fcf769f30
DTSTART:20130104T180000Z
SEQUENCE:0
TRANSP:OPAQUE
DTEND:20130105T190554Z
LOCATION:701 Convention Center Boulevard New Orleans LA 70130
SUMMARY:15th Annual Faculty Conference
CLASS:PUBLIC
X-ALT-DESC;FMTTYPE=text/html:Event: 15th Annual Faculty Conference\n\n Loca
 tion: 701 Convention Center Boulevard New Orleans LA 70130\n\n
DTSTAMP:20221225T023415Z
END:VEVENT
END:VCALENDAR