BEGIN:VCALENDAR
VERSION:2.0
PRODID:https://fedsoc.org/events/showcase-panel-iv-textualism-and-statutory
 -interpretation
BEGIN:VEVENT
UID:611cbaa48834c
DTSTART:20131116T191506Z
SEQUENCE:0
TRANSP:OPAQUE
DTEND:20131116T210006Z
LOCATION:1127 Connecticut Avenue\, NW Washington DC 20036
SUMMARY:Showcase Panel IV: Textualism and Statutory Interpretation
CLASS:PUBLIC
X-ALT-DESC;FMTTYPE=text/html:Event: Showcase Panel IV: Textualism and Statu
 tory Interpretation\n\n Location: 1127 Connecticut Avenue\, NW Washington 
 DC 20036\n\n
DTSTAMP:20210818T034540Z
END:VEVENT
END:VCALENDAR