BEGIN:VCALENDAR
VERSION:2.0
PRODID:https://fedsoc.org/events/environmental-law-new-directions-in-taking
 s-law
BEGIN:VEVENT
UID:611cba5883bcf
DTSTART:20131116T154553Z
SEQUENCE:0
TRANSP:OPAQUE
DTEND:20131116T171553Z
LOCATION:1127 Connecticut Avenue\, NW Washington DC 20036
SUMMARY:Environmental Law: New Directions in Takings Law
CLASS:PUBLIC
X-ALT-DESC;FMTTYPE=text/html:Event: Environmental Law: New Directions in Ta
 kings Law\n\n Location: 1127 Connecticut Avenue\, NW Washington DC 20036\n
 \n
DTSTAMP:20210818T034424Z
END:VEVENT
END:VCALENDAR