BEGIN:VCALENDAR
VERSION:2.0
PRODID:https://fedsoc.org/events/administrative-law-executive-branch-gone-w
 ild-21st-century-checks-and-balances
BEGIN:VEVENT
UID:611cba80b1a4c
DTSTART:20131116T154555Z
SEQUENCE:0
TRANSP:OPAQUE
DTEND:20131116T171555Z
LOCATION:1127 Connecticut Avenue\, NW Washington DC 20036
SUMMARY:Administrative Law: Executive Branch Gone Wild? 21st Century Checks
  and Balances
CLASS:PUBLIC
X-ALT-DESC;FMTTYPE=text/html:Event: Administrative Law: Executive Branch Go
 ne Wild? 21st Century Checks and Balances\n\n Location: 1127 Connecticut A
 venue\, NW Washington DC 20036\n\n
DTSTAMP:20210818T034504Z
END:VEVENT
END:VCALENDAR