BEGIN:VCALENDAR
VERSION:2.0
PRODID:https://fedsoc.org/events/young-legal-scholars-paper-presentations-6
BEGIN:VEVENT
UID:63a790af572f1
DTSTART:20140104T200053Z
SEQUENCE:0
TRANSP:OPAQUE
DTEND:20140104T220000Z
LOCATION:65 W 54th St. New York NY 10019
SUMMARY:Young Legal Scholars Paper Presentations
CLASS:PUBLIC
X-ALT-DESC;FMTTYPE=text/html:Event: Young Legal Scholars Paper Presentation
 s\n\n Location: 65 W 54th St. New York NY 10019\n\n
DTSTAMP:20221224T185215Z
END:VEVENT
END:VCALENDAR