BEGIN:VCALENDAR
VERSION:2.0
PRODID:https://fedsoc.org/events/lunch-debate-is-privacy-regulation-likely-
 to-reduce-the-value-of-the-internet
BEGIN:VEVENT
UID:63a790470d603
DTSTART:20140104T173020Z
SEQUENCE:0
TRANSP:OPAQUE
DTEND:20140104T193020Z
LOCATION:65 W 54th St. New York NY 10019
SUMMARY:Lunch Debate: Is Privacy Regulation Likely to Reduce the Value of t
 he Internet?
CLASS:PUBLIC
X-ALT-DESC;FMTTYPE=text/html:Event: Lunch Debate: Is Privacy Regulation Lik
 ely to Reduce the Value of the Internet?\n\n Location: 65 W 54th St. New Y
 ork NY 10019\n\n
DTSTAMP:20221224T185031Z
END:VEVENT
END:VCALENDAR