BEGIN:VCALENDAR
VERSION:2.0
PRODID:https://fedsoc.org/events/panel-iii-natural-law-and-natural-rights
BEGIN:VEVENT
UID:63a78fd8e656d
DTSTART:20140104T143016Z
SEQUENCE:0
TRANSP:OPAQUE
DTEND:20140104T161516Z
LOCATION:65 W 54th St. New York NY 10019
SUMMARY:Panel III: Natural Law and Natural Rights
CLASS:PUBLIC
X-ALT-DESC;FMTTYPE=text/html:Event: Panel III: Natural Law and Natural Righ
 ts\n\n Location: 65 W 54th St. New York NY 10019\n\n
DTSTAMP:20221224T184840Z
END:VEVENT
END:VCALENDAR