BEGIN:VCALENDAR
VERSION:2.0
PRODID:https://fedsoc.org/events/public-interest-litigation-workshop
BEGIN:VEVENT
UID:63a78f90cf356
DTSTART:20140104T133055Z
SEQUENCE:0
TRANSP:OPAQUE
DTEND:20140104T141555Z
LOCATION:65 W 54th St. New York NY 10019
SUMMARY:Public Interest Litigation Workshop
CLASS:PUBLIC
X-ALT-DESC;FMTTYPE=text/html:Event: Public Interest Litigation Workshop\n\n
  Location: 65 W 54th St. New York NY 10019\n\n
DTSTAMP:20221224T184728Z
END:VEVENT
END:VCALENDAR