BEGIN:VCALENDAR
VERSION:2.0
PRODID:https://fedsoc.org/events/seven-minute-presentations-of-works-in-pro
 gress-part-ib
BEGIN:VEVENT
UID:63a790aa3f572
DTSTART:20140103T220034Z
SEQUENCE:0
TRANSP:OPAQUE
DTEND:20140103T231534Z
LOCATION:65 W 54th St. New York NY 10019
SUMMARY:Seven-Minute Presentations of Works in Progress - Part IB
CLASS:PUBLIC
X-ALT-DESC;FMTTYPE=text/html:Event: Seven-Minute Presentations of Works in 
 Progress - Part IB\n\n Location: 65 W 54th St. New York NY 10019\n\n
DTSTAMP:20221224T185210Z
END:VEVENT
END:VCALENDAR