BEGIN:VCALENDAR
VERSION:2.0
PRODID:https://fedsoc.org/events/panel-ii-who-determines-an-agency-s-power
BEGIN:VEVENT
UID:63a790fda6b43
DTSTART:20140103T200000Z
SEQUENCE:0
TRANSP:OPAQUE
DTEND:20140103T214500Z
LOCATION:65 W 54th St. New York NY 10019
SUMMARY:Panel II:  Who Determines an Agency's Power?
CLASS:PUBLIC
X-ALT-DESC;FMTTYPE=text/html:Event: Panel II:  Who Determines an Agency's P
 ower?\n\n Location: 65 W 54th St. New York NY 10019\n\n
DTSTAMP:20221224T185333Z
END:VEVENT
END:VCALENDAR