BEGIN:VCALENDAR
VERSION:2.0
PRODID:https://fedsoc.org/events/panel-i-is-ip-property-or-government-confe
 rred-monopoly
BEGIN:VEVENT
UID:63a78f5a992cc
DTSTART:20140103T180059Z
SEQUENCE:0
TRANSP:OPAQUE
DTEND:20140103T194559Z
LOCATION:65 W 54th St. New York NY 10019
SUMMARY:Panel I: Is IP Property or Government-Conferred Monopoly?
CLASS:PUBLIC
X-ALT-DESC;FMTTYPE=text/html:Event: Panel I: Is IP Property or Government-C
 onferred Monopoly?\n\n Location: 65 W 54th St. New York NY 10019\n\n
DTSTAMP:20221224T184634Z
END:VEVENT
END:VCALENDAR