BEGIN:VCALENDAR
VERSION:2.0
PRODID:https://fedsoc.org/events/introductory-lunch-online-education-projec
 ts-and-opportunities
BEGIN:VEVENT
UID:63a78fabdd197
DTSTART:20140103T170003Z
SEQUENCE:0
TRANSP:OPAQUE
DTEND:20140103T180003Z
LOCATION:65 W 54th St. New York NY 10019
SUMMARY:Introductory Lunch: Online Education Projects and Opportunities
CLASS:PUBLIC
X-ALT-DESC;FMTTYPE=text/html:Event: Introductory Lunch: Online Education Pr
 ojects and Opportunities\n\n Location: 65 W 54th St. New York NY 10019\n\n
DTSTAMP:20221224T184755Z
END:VEVENT
END:VCALENDAR