BEGIN:VCALENDAR
VERSION:2.0
PRODID:https://fedsoc.org/events/16th-annual-faculty-conference
BEGIN:VEVENT
UID:63a79072c09de
DTSTART:20140103T170000Z
SEQUENCE:0
TRANSP:OPAQUE
DTEND:20140104T220546Z
LOCATION:65 W 54th St. New York NY 10019
SUMMARY:16th Annual Faculty Conference
CLASS:PUBLIC
X-ALT-DESC;FMTTYPE=text/html:Event: 16th Annual Faculty Conference\n\n Loca
 tion: 65 W 54th St. New York NY 10019\n\n
DTSTAMP:20221224T185114Z
END:VEVENT
END:VCALENDAR