BEGIN:VCALENDAR
VERSION:2.0
PRODID:https://fedsoc.org/events/luncheon-panel-executive-power-and-the-rol
 e-of-the-coordinate-branches
BEGIN:VEVENT
UID:60ead4747aee8
DTSTART:20140507T163059Z
SEQUENCE:0
TRANSP:OPAQUE
DTEND:20140507T180059Z
LOCATION:1127 Connecticut Ave NW Washington DC 20036
SUMMARY:Luncheon Panel: Executive Power and the Role of the Coordinate Bran
 ches
CLASS:PUBLIC
X-ALT-DESC;FMTTYPE=text/html:Event: Luncheon Panel: Executive Power and the
  Role of the Coordinate Branches\n\n Location: 1127 Connecticut Ave NW Was
 hington DC 20036\n\n
DTSTAMP:20210711T072228Z
END:VEVENT
END:VCALENDAR