BEGIN:VCALENDAR
VERSION:2.0
PRODID:https://fedsoc.org/events/the-contraceptive-mandate
BEGIN:VEVENT
UID:60ead45b5d1c6
DTSTART:20140507T150052Z
SEQUENCE:0
TRANSP:OPAQUE
DTEND:20140507T161552Z
LOCATION:1127 Connecticut Ave NW Washington DC 20036
SUMMARY:The Contraceptive Mandate
CLASS:PUBLIC
X-ALT-DESC;FMTTYPE=text/html:Event: The Contraceptive Mandate\n\n Location:
  1127 Connecticut Ave NW Washington DC 20036\n\n
DTSTAMP:20210711T072203Z
END:VEVENT
END:VCALENDAR