BEGIN:VCALENDAR
VERSION:2.0
PRODID:https://fedsoc.org/events/the-internal-revenue-service-1
BEGIN:VEVENT
UID:60ead40b07501
DTSTART:20140507T150005Z
SEQUENCE:0
TRANSP:OPAQUE
DTEND:20140507T161505Z
LOCATION:1127 Connecticut Ave NW Washington DC 20036
SUMMARY:The Internal Revenue Service
CLASS:PUBLIC
X-ALT-DESC;FMTTYPE=text/html:Event: The Internal Revenue Service\n\n Locati
 on: 1127 Connecticut Ave NW Washington DC 20036\n\n
DTSTAMP:20210711T072043Z
END:VEVENT
END:VCALENDAR