BEGIN:VCALENDAR
VERSION:2.0
PRODID:https://fedsoc.org/events/disparate-impact-analysis
BEGIN:VEVENT
UID:60ead43f6adc1
DTSTART:20140507T150042Z
SEQUENCE:0
TRANSP:OPAQUE
DTEND:20140507T161542Z
LOCATION:1127 Connecticut Ave NW Washington DC 20036
SUMMARY:Disparate Impact Analysis
CLASS:PUBLIC
X-ALT-DESC;FMTTYPE=text/html:Event: Disparate Impact Analysis\n\n Location:
  1127 Connecticut Ave NW Washington DC 20036\n\n
DTSTAMP:20210711T072135Z
END:VEVENT
END:VCALENDAR