BEGIN:VCALENDAR
VERSION:2.0
PRODID:https://fedsoc.org/events/policy-without-process
BEGIN:VEVENT
UID:60ead3e85563f
DTSTART:20140507T133054Z
SEQUENCE:0
TRANSP:OPAQUE
DTEND:20140507T144554Z
LOCATION:1127 Connecticut Ave NW Washington DC 20036
SUMMARY:Policy without Process?
CLASS:PUBLIC
X-ALT-DESC;FMTTYPE=text/html:Event: Policy without Process?\n\n Location: 1
 127 Connecticut Ave NW Washington DC 20036\n\n
DTSTAMP:20210711T072008Z
END:VEVENT
END:VCALENDAR