BEGIN:VCALENDAR
VERSION:2.0
PRODID:https://fedsoc.org/events/suspension-of-laws-what-are-the-limits-of-
 executive-authority
BEGIN:VEVENT
UID:60ead3b8c2dbf
DTSTART:20140507T133002Z
SEQUENCE:0
TRANSP:OPAQUE
DTEND:20140507T144502Z
LOCATION:1127 Connecticut Ave NW Washington DC 20036
SUMMARY:Suspension of Laws: What are the Limits of Executive Authority?
CLASS:PUBLIC
X-ALT-DESC;FMTTYPE=text/html:Event: Suspension of Laws: What are the Limits
  of Executive Authority?\n\n Location: 1127 Connecticut Ave NW Washington 
 DC 20036\n\n
DTSTAMP:20210711T071920Z
END:VEVENT
END:VCALENDAR