BEGIN:VCALENDAR
VERSION:2.0
PRODID:https://fedsoc.org/events/welcome-opening-address-by-tom-cotton
BEGIN:VEVENT
UID:60ead3a44e049
DTSTART:20140507T130039Z
SEQUENCE:0
TRANSP:OPAQUE
DTEND:20140507T133039Z
LOCATION:1127 Connecticut Ave NW Washington DC 20036
SUMMARY:Welcome & Opening Address by Tom Cotton
CLASS:PUBLIC
X-ALT-DESC;FMTTYPE=text/html:Event: Welcome & Opening Address by Tom Cotton
 \n\n Location: 1127 Connecticut Ave NW Washington DC 20036\n\n
DTSTAMP:20210711T071900Z
END:VEVENT
END:VCALENDAR