BEGIN:VCALENDAR
VERSION:2.0
PRODID:https://fedsoc.org/events/second-annual-executive-branch-review-conf
 erence
BEGIN:VEVENT
UID:60ead3a0177b1
DTSTART:20140507T130016Z
SEQUENCE:0
TRANSP:OPAQUE
DTEND:20140507T190516Z
LOCATION:1127 Connecticut Ave NW Washington DC 20036
SUMMARY:Second Annual Executive Branch Review Conference
CLASS:PUBLIC
X-ALT-DESC;FMTTYPE=text/html:Event: Second Annual Executive Branch Review C
 onference\n\n Location: 1127 Connecticut Ave NW Washington DC 20036\n\n
DTSTAMP:20210711T071856Z
END:VEVENT
END:VCALENDAR