BEGIN:VCALENDAR
VERSION:2.0
PRODID:https://fedsoc.org/events/luncheon-address-national-insecurity-is-th
 e-law-the-enemy-s-weapon
BEGIN:VEVENT
UID:63a9859228510
DTSTART:20150429T154559Z
SEQUENCE:0
TRANSP:OPAQUE
DTEND:20150429T170059Z
LOCATION:1330 Connecticut Avenue\, NW Washington DC 20036
SUMMARY:Luncheon Address: National Insecurity: Is the Law the Enemy's Weapo
 n?
CLASS:PUBLIC
X-ALT-DESC;FMTTYPE=text/html:Event: Luncheon Address: National Insecurity: 
 Is the Law the Enemy's Weapon?\n\n Location: 1330 Connecticut Avenue\, NW 
 Washington DC 20036\n\n
DTSTAMP:20221226T062922Z
END:VEVENT
END:VCALENDAR